BEGIN:VCALENDAR
VERSION:2.0
PRODID:Spatie calendar-links
BEGIN:VEVENT
UID:8b10a94c6ae1a8750007c6db24c73644
SUMMARY:யாழ் மீசாலை வீரசிங்கம் மத்திய கல்லூரி கனடா
DTSTAMP:20250810T120000Z
DTSTART:20250810T120000Z
DTEND:20250810T230000Z
LOCATION:1555 Nelison road\, Scarborough\, ON\, Canada
END:VEVENT
END:VCALENDAR