BEGIN:VCALENDAR
VERSION:2.0
PRODID:Spatie calendar-links
BEGIN:VEVENT
UID:475f6bc8fe0265bb7738e72b83d72dc8
SUMMARY:Tamil Fest
DTSTAMP:20250823T140000Z
DTSTART:20250823T140000Z
DTEND:20250825T030000Z
LOCATION:Canada
END:VEVENT
END:VCALENDAR