BEGIN:VCALENDAR
VERSION:2.0
PRODID:Spatie calendar-links
BEGIN:VEVENT
UID:0fc4d9ec82ca6ad9135655f85b003dc1
SUMMARY:தியாகி பொன். சிவகுமாரனின் 51வது நினைவு தினம்.
DTSTAMP:20250605T223000Z
DTSTART:20250605T223000Z
DTEND:20250606T030000Z
END:VEVENT
END:VCALENDAR