BEGIN:VCALENDAR
VERSION:2.0
PRODID:Spatie calendar-links
BEGIN:VEVENT
UID:3d7ba15f2128096475e5b103291b1fbf
SUMMARY:அருள்மிகு வரசித்து விநாயகர் மகோற்சவ விஞ்ஞாபனம்  அபிஷேக உற்சவ நேர விபரம்
DTSTAMP:20250527T100000Z
DTSTART:20250527T100000Z
DTEND:20250612T030000Z
LOCATION:10865 Bayview Avenue\, Richmond Hill\, ON\, Canada
END:VEVENT
END:VCALENDAR